BEGIN:VCALENDAR
VERSION:2.0
PRODID:-//wp-events-plugin.com//7.2.3.1//EN
TZID:America/Los_Angeles
X-WR-TIMEZONE:America/Los_Angeles
BEGIN:VEVENT
UID:5582@news24-680.com
DTSTART;TZID=America/Los_Angeles:20251025T110000
DTEND;TZID=America/Los_Angeles:20251025T150000
DTSTAMP:20251014T215106Z
URL:https://news24-680.com/events/witch-way-to-mocktails/
SUMMARY:Witch Way to Mocktails
DESCRIPTION:Wear witch hats\, witch costumes or Halloween costumes and samp
 le signature mocktails at participating Lafayette retail stores Saturday\,
  October 25\, 11am-3pm. Businesses will provide free samples/tastings of t
 heir very own signature mocktails! Participating businesses\, a map and mo
 re details can be found here: Lafayette Chamber of Commerce Chamber Events
 .
CATEGORIES:Halloween
LOCATION:Lafayette Plaza Park\, 3535 Plaza Way\, Lafayette\, CA\, United St
 ates
X-APPLE-STRUCTURED-LOCATION;VALUE=URI;X-ADDRESS=3535 Plaza Way\, Lafayette\
 , CA\, United States;X-APPLE-RADIUS=100;X-TITLE=Lafayette Plaza Park:geo:0
 ,0
END:VEVENT
BEGIN:VTIMEZONE
TZID:America/Los_Angeles
X-LIC-LOCATION:America/Los_Angeles
BEGIN:DAYLIGHT
DTSTART:20250309T030000
TZOFFSETFROM:-0800
TZOFFSETTO:-0700
TZNAME:PDT
END:DAYLIGHT
END:VTIMEZONE
END:VCALENDAR