BEGIN:VCALENDAR
VERSION:2.0
PRODID:-//wp-events-plugin.com//7.2.3.1//EN
TZID:America/Los_Angeles
X-WR-TIMEZONE:America/Los_Angeles
BEGIN:VEVENT
UID:5576@news24-680.com
DTSTART;TZID=America/Los_Angeles:20251018T113000
DTEND;TZID=America/Los_Angeles:20251018T130000
DTSTAMP:20251009T185545Z
URL:https://news24-680.com/events/walnut-creek-no-kings-rally-oct-18-2/
SUMMARY:Walnut Creek No Kings Rally - Oct. 18
DESCRIPTION:\nIn America\, we don’t put up with would-be kings.\n\nOur pe
 aceful movement is only getting bigger and stronger. “NO KINGS” is mor
 e than just a slogan—it’s the foundation our nation was built upon. Bo
 rn in the streets\, carried by millions in chants and on posters\, it echo
 es from city blocks to rural town squares\, uniting people across this cou
 ntry to fight dictatorship together.\n\nThe president thinks his rule is a
 bsolute. But in America\, we don’t have kings\, and we won’t back down
  against chaos\, corruption\, and cruelty. Grow our movement and join us.\
 n\nA core principle behind all No Kings events is a commitment to nonviole
 nt action. We expect all participants to seek to de-escalate any potential
  confrontation with those who disagree with our values and to act lawfully
  at these events. Weapons of any kind\, including those legally permitted\
 , should not be brought to events.\n\nThis event is organized by Indivisib
 le ReSisters Contra Costa in partnership with Commit to Democracy! Bring y
 our family\, friends\, and neighbors to make this the biggest action yet!\
 n\nAccessibility\nAccessible restrooms\nMainly flat ground
CATEGORIES:Political Event
LOCATION:Broadway Plaza\, 1275 Broadway Plaza\, walnut creek\, ca\, 94596\,
  United States
GEO:37.8963326;-122.05866809999998
X-APPLE-STRUCTURED-LOCATION;VALUE=URI;X-ADDRESS=1275 Broadway Plaza\, walnu
 t creek\, ca\, 94596\, United States;X-APPLE-RADIUS=100;X-TITLE=Broadway P
 laza:geo:37.8963326,-122.05866809999998
END:VEVENT
BEGIN:VTIMEZONE
TZID:America/Los_Angeles
X-LIC-LOCATION:America/Los_Angeles
BEGIN:DAYLIGHT
DTSTART:20250309T030000
TZOFFSETFROM:-0800
TZOFFSETTO:-0700
TZNAME:PDT
END:DAYLIGHT
END:VTIMEZONE
END:VCALENDAR