BEGIN:VCALENDAR
VERSION:2.0
PRODID:-//wp-events-plugin.com//7.2.3.1//EN
TZID:America/Los_Angeles
X-WR-TIMEZONE:America/Los_Angeles
BEGIN:VEVENT
UID:5583@news24-680.com
DTSTART;TZID=America/Los_Angeles:20251111T170000
DTEND;TZID=America/Los_Angeles:20251111T190000
DTSTAMP:20251017T043802Z
URL:https://news24-680.com/events/veterans-day-2025/
SUMMARY:Veterans’ Day – 2025
DESCRIPTION:The Beacon on Mount Diablo will be lit at Sunset (5pm) on Tuesd
 ay\, November 11\, 2025\, to Honor the men and women who have served in th
 e United States Military\n\nJoin local veterans at 4:40pm and the Mayor of
  Danville by the Flagpole in front of the Veterans Memorial Building in Da
 nville as they press the button at 5:00 pm to light the Beacon on Mount Di
 ablo\n\nfollowed by a flyover from WWII aircraft from “Valiant Effort”
 ! The Veterans Memorial Building will be open to the public from 5pm to 7p
 m.  A proclamation was signed on February 25\, 2022\, in the Veterans Memo
 rial Building in Danville to light the Beacon on Mount Diablo not only on 
 Pearl Harbor Day\, but also on Memorial Day and Veterans’ Day. 
ATTACH;FMTTYPE=image/jpeg:https://news24-680.com/wp-content/uploads/2020/1
 1/Diablo-Beacon-e1699367960994.png
CATEGORIES:Memorial
LOCATION:Veterans Memorial Building\, 115 E. Prospect Avenue\, Danville\, C
 A\, United States
GEO:37.8217817;-121.99968139999999
X-APPLE-STRUCTURED-LOCATION;VALUE=URI;X-ADDRESS=115 E. Prospect Avenue\, Da
 nville\, CA\, United States;X-APPLE-RADIUS=100;X-TITLE=Veterans Memorial B
 uilding:geo:37.8217817,-121.99968139999999
END:VEVENT
BEGIN:VTIMEZONE
TZID:America/Los_Angeles
X-LIC-LOCATION:America/Los_Angeles
BEGIN:STANDARD
DTSTART:20251102T010000
TZOFFSETFROM:-0700
TZOFFSETTO:-0800
TZNAME:PST
END:STANDARD
END:VTIMEZONE
END:VCALENDAR