BEGIN:VCALENDAR
VERSION:2.0
PRODID:-//wp-events-plugin.com//7.2.3.1//EN
TZID:America/Los_Angeles
X-WR-TIMEZONE:America/Los_Angeles
BEGIN:VEVENT
UID:5408@news24-680.com
DTSTART;TZID=America/Los_Angeles:20250410T193000
DTEND;TZID=America/Los_Angeles:20250410T210000
DTSTAMP:20241028T201542Z
URL:https://news24-680.com/events/terence-blanchard/
SUMMARY:Terence Blanchard
DESCRIPTION:NEA Jazz Master\, Two-time EMMY and Oscar Nominee\, Seven-time 
 GRAMMY® winning trumpeter &amp\; composer Terence Blanchard has establish
 ed himself as the quintessential 21st Century Renaissance man. In celebrat
 ion of his artistic achievements\, Blanchard will reunite the extraordinar
 y band that collaborated on his critically acclaimed album\, FLOW\, for a 
 20th anniversary tour in 2025.\n\nTwenty years ago\, Blanchard assembled a
 n exceptional lineup consisting of Brice Winston on saxophone\, Lionel Lou
 eke on guitar and vocals\, Aaron Parks on piano\, Derrick Hodge on bass\, 
 and Kendrick Scott on drums. This group entered the studio with the intent
 ion of delving into the fundamental question: What brings joy and purpose 
 to people's lives? Both the question and the title of the album were inspi
 red by the renowned psychologist Mihaly Csikszentmihalyi\, and his book Fl
 ow: The Psychology of Optimal Experience which explores creativity\, peak 
 performance\, and genuine happiness.\n\nThe resulting recording comprised 
 eleven tracks\, with each of the six members—Blanchard\, Hodge\, Loueke\
 , Scott\, Winston\, and Parks—making compositional contributions. This r
 emarkable project embarked on a successful tour with performances in South
  Africa\, the United States\, Canada\, Europe\, and Japan.\n\nThe highly a
 nticipated 2025 tour will center around the music from the original 2005 B
 lue Note recording and will feature several of the original members. Over 
 the past two decades\, each of these musician has made significant strides
  in their respective careers— each will bring their seasoned perspective
 \, solidified artistic prowess and expanded creative horizons back to this
  seminal body of work.\n\n&nbsp\;
CATEGORIES:Music
LOCATION:Lesher Center for the Arts\, 1601 Civic Drive\, Walnut Creek\, Uni
 ted States
GEO:37.9011568;-122.0634847
X-APPLE-STRUCTURED-LOCATION;VALUE=URI;X-ADDRESS=1601 Civic Drive\, Walnut C
 reek\, United States;X-APPLE-RADIUS=100;X-TITLE=Lesher Center for the Arts
 :geo:37.9011568,-122.0634847
END:VEVENT
BEGIN:VTIMEZONE
TZID:America/Los_Angeles
X-LIC-LOCATION:America/Los_Angeles
BEGIN:DAYLIGHT
DTSTART:20250309T030000
TZOFFSETFROM:-0800
TZOFFSETTO:-0700
TZNAME:PDT
END:DAYLIGHT
END:VTIMEZONE
END:VCALENDAR