BEGIN:VCALENDAR
VERSION:2.0
PRODID:-//wp-events-plugin.com//7.2.3.1//EN
TZID:America/Los_Angeles
X-WR-TIMEZONE:America/Los_Angeles
BEGIN:VEVENT
UID:5590@news24-680.com
DTSTART;TZID=America/Los_Angeles:20251101T130000
DTEND;TZID=America/Los_Angeles:20251101T170000
DTSTAMP:20251025T225822Z
URL:https://news24-680.com/events/school-of-rock-opening-alameda-nov-1/
SUMMARY:School Of Rock Opening\, Alameda - Nov. 1
DESCRIPTION:\nSchool of Rock Alameda Grand Opening\n\nSchool of Rock\, the 
 leader in performance-based music education\, is excited to announce the g
 rand opening of its newest location in Alameda\, California. The free\, fa
 mily-friendly event will take place on Saturday\, November 1\, from 1 p.m.
  to 5 p.m. at 2414 Central Ave\, Alameda\, CA 94501.\n\nThe celebration pr
 omises a fun-filled day for the entire family\, featuring KISS-themed stil
 t walkers\, live student performances\, a mobile selfie booth\, music equi
 pment demonstrations such as guitar stringing and drum tuning\, music-them
 ed crafts for kids\, guided tours of the state-of-the-art rehearsal rooms 
 and recording facilities\, and offerings from local food trucks and commun
 ity partners. Attendees will also enjoy a waived enrollment fee for grand 
 opening sign-ups and receive a swag bag of School of Rock goodies.\n\nWHER
 E:\nSchool of Rock Alameda\n2414 Central Ave\nAlameda\, CA 94501\n
ATTACH;FMTTYPE=image/jpeg:https://news24-680.com/wp-content/uploads/2025/1
 0/Screenshot-2025-10-25-at-3.51.19-PM.jpg
CATEGORIES:Arts,Free,Music
LOCATION:School of Rock\, Alameda\, 2414 Central Ave\, Alameda\, CA\, 94501
 \, United States
X-APPLE-STRUCTURED-LOCATION;VALUE=URI;X-ADDRESS=2414 Central Ave\, Alameda\
 , CA\, 94501\, United States;X-APPLE-RADIUS=100;X-TITLE=School of Rock\, A
 lameda:geo:0,0
END:VEVENT
BEGIN:VTIMEZONE
TZID:America/Los_Angeles
X-LIC-LOCATION:America/Los_Angeles
BEGIN:DAYLIGHT
DTSTART:20250309T030000
TZOFFSETFROM:-0800
TZOFFSETTO:-0700
TZNAME:PDT
END:DAYLIGHT
END:VTIMEZONE
END:VCALENDAR