BEGIN:VCALENDAR
VERSION:2.0
PRODID:-//wp-events-plugin.com//7.2.3.1//EN
TZID:America/Los_Angeles
X-WR-TIMEZONE:America/Los_Angeles
BEGIN:VEVENT
UID:5557@news24-680.com
DTSTART;TZID=America/Los_Angeles:20251005T130000
DTEND;TZID=America/Los_Angeles:20251005T200000
DTSTAMP:20250929T035349Z
URL:https://news24-680.com/events/oakland-ballers-parade-and-celebration-p
 arty-oct-5/
SUMMARY:Oakland Ballers Parade And Celebration Party - Oct. 5
DESCRIPTION:The Oakland Ballers won the Pioneer League championship in thei
 r second season\, securing Oakland's first professional baseball title sin
 ce the Oakland A's last won in the 1989 Bay Bridge Series.\n\nIn honor of 
 the achievement\, Oakland is hosting a parade for the team on Sunday\, Oc
 t. 5\, starting at 1 p.m. at city hall and ending at Prescott Market. The 
 rest of the celebration will continue there.
CATEGORIES:Celebration,Civic Event,Free,Music,Parade,Sporting Events
LOCATION:Oakland City Hall\, 1 Frank H. Ogawa Plaza\, Oakland\, California\
 , 94612\, United States
X-APPLE-STRUCTURED-LOCATION;VALUE=URI;X-ADDRESS=1 Frank H. Ogawa Plaza\, Oa
 kland\, California\, 94612\, United States;X-APPLE-RADIUS=100;X-TITLE=Oakl
 and City Hall:geo:0,0
END:VEVENT
BEGIN:VTIMEZONE
TZID:America/Los_Angeles
X-LIC-LOCATION:America/Los_Angeles
BEGIN:DAYLIGHT
DTSTART:20250309T030000
TZOFFSETFROM:-0800
TZOFFSETTO:-0700
TZNAME:PDT
END:DAYLIGHT
END:VTIMEZONE
END:VCALENDAR