BEGIN:VCALENDAR
VERSION:2.0
PRODID:-//wp-events-plugin.com//7.2.3.1//EN
TZID:America/Los_Angeles
X-WR-TIMEZONE:America/Los_Angeles
BEGIN:VEVENT
UID:5596@news24-680.com
DTSTART;TZID=America/Los_Angeles:20251114T090000
DTEND;TZID=America/Los_Angeles:20251114T120000
DTSTAMP:20251029T191133Z
URL:https://news24-680.com/events/lafayette-chamber-business-seminar-from-
 vision-to-action-nov-14/
SUMMARY:Lafayette Chamber Business Seminar: From Vision to Action - Nov. 14
DESCRIPTION:? From Vision to Action: Lafayette Chamber Business Seminar\n\n
 Join us on November 14\, 2025\, at the Lafayette Library and Learning Cent
 er for a dynamic 3-hour business seminar designed to help you build your 2
 026 strategy! Learn to craft a one-page vision\, align your financial goal
 s\, and leverage AI as a strategic tool.\n\nOur three sessions include:\n\
 n 	1-Page Strategy to Win in 2026 with Alex Teece\n 	Aligning Your Financi
 al Plan with Your Organizational Goals with Fred Steingraf (Edward Jones)\
 , Carolyne Charvoz (Girls Just Gotta Have Funds)\, and Shanna Hansen (Me
 chanics Bank)\n 	AI as a Strategic Partner with Tasneem Nomanbhai (WSI)\n\
 n? Connect with fellow business leaders\, gain actionable insights\, and g
 et ready to turn your 2026 vision into action!\n\n? Friday\, Nov 14 | 9AM
 –12PM\n? Lafayette Library – Don Tatzin Community Hall (3491 Mt. Diabl
 o Blvd)\n? Free for members | $30 nonmembers\n\nTo join us\, please regist
 er at: LafyetteChamber.org/Seminars\n\nhttps://lafayettechamber.org/Semina
 rs
CATEGORIES:Advisory
LOCATION:Lafayette Library – Don Tatzin Community Hall (3491 Mt. Diablo B
 lvd)\, 3491 Mt. Diablo Blvd\, Lafayette\, CA\, 94549\, United States
GEO:37.891901;-122.115874
X-APPLE-STRUCTURED-LOCATION;VALUE=URI;X-ADDRESS=3491 Mt. Diablo Blvd\, Lafa
 yette\, CA\, 94549\, United States;X-APPLE-RADIUS=100;X-TITLE=Lafayette Li
 brary – Don Tatzin Community Hall (3491 Mt. Diablo Blvd):geo:37.891901,-
 122.115874
END:VEVENT
BEGIN:VTIMEZONE
TZID:America/Los_Angeles
X-LIC-LOCATION:America/Los_Angeles
BEGIN:STANDARD
DTSTART:20251102T010000
TZOFFSETFROM:-0700
TZOFFSETTO:-0800
TZNAME:PST
END:STANDARD
END:VTIMEZONE
END:VCALENDAR