BEGIN:VCALENDAR
VERSION:2.0
PRODID:-//wp-events-plugin.com//7.2.3.1//EN
TZID:America/Los_Angeles
X-WR-TIMEZONE:America/Los_Angeles
BEGIN:VEVENT
UID:5584@news24-680.com
DTSTART;TZID=America/Los_Angeles:20251115T100000
DTEND;TZID=America/Los_Angeles:20251115T140000
DTSTAMP:20251017T173334Z
URL:https://news24-680.com/events/kiwanis-club-of-san-ramon-valley-annual-
 food-drive-november-15/
SUMMARY:Kiwanis Club of San Ramon Valley Annual Food Drive\, November 15
DESCRIPTION:Kiwanis Club of San Ramon Valley (Kiwanis SRV) is once again t
 eaming up with NBC Bay Area\, Safeway grocery stores\, and Food Bank of Co
 ntra Costa and Solano to support the 16th annual Nourishing Neighbors Fo
 od Drive\, running now through the end of 2025.\n\nAs a part of the campai
 gn\, NBC Bay Area and Safeway are conducting a united one-day food drive p
 ush on Saturday\, November 15\, when thousands of volunteers will be stand
 ing outside Safeway grocery stores throughout the Bay Area encouraging sho
 ppers to make donations at the check-out counter to help combat hunger and
  food insecurity among our neighbors in need.\n\nKiwanis SRV is coordinati
 ng a team of more than 30 volunteers\, including members of Kiwanis SRV\, 
 high school Key Club\, National Charity League\, Scouting America\, and ot
 her community organizations\, who will be outside four San Ramon Valley 
 Safeway stores engaging shoppers\, distributing flyers\, and encouraging p
 eople to donate $10 toward the campaign at the check-out counter.\n\nFrom
  10am to 2pm\, Kiwanis SRV volunteers will be outside the Safeway stores i
 n Alamo at 200 Alamo Plaza\; in Blackhawk at 3496 Camino Tassajara\; and 
 in San Ramon at both 2505 San Ramon Valley Blvd\, and 11050 Bollinger Cany
 on Road.\n\nDonating is as simple as asking the cashier to scan a bar code
  before items from the cart or basket are totaled\; the donation toward th
 e Nourishing Neighbors campaign is added to the receipt. Safeway will then
  deliver donated funds as Safeway gift cards to the Food Bank of Contra C
 osta and Solano\, a long-time partner of Kiwanis SRV.
ATTACH;FMTTYPE=image/jpeg:https://news24-680.com/wp-content/uploads/2025/1
 0/Kiwanis-SRV-Food-Drive-111525.jpeg
CATEGORIES:Fundraiser
LOCATION:Safeway\, 2505 San Ramon Valley Blvd\, Danville\, CA\, 94583\, San
  Ramon Valley\, United States
X-APPLE-STRUCTURED-LOCATION;VALUE=URI;X-ADDRESS=2505 San Ramon Valley Blvd\
 , Danville\, CA\, 94583\, San Ramon Valley\, United States;X-APPLE-RADIUS=
 100;X-TITLE=Safeway:geo:0,0
END:VEVENT
BEGIN:VTIMEZONE
TZID:America/Los_Angeles
X-LIC-LOCATION:America/Los_Angeles
BEGIN:STANDARD
DTSTART:20251102T010000
TZOFFSETFROM:-0700
TZOFFSETTO:-0800
TZNAME:PST
END:STANDARD
END:VTIMEZONE
END:VCALENDAR