BEGIN:VCALENDAR
VERSION:2.0
PRODID:-//wp-events-plugin.com//7.2.3.1//EN
TZID:America/Los_Angeles
X-WR-TIMEZONE:America/Los_Angeles
BEGIN:VEVENT
UID:5595@news24-680.com
DTSTART;TZID=America/Los_Angeles:20251207T160000
DTEND;TZID=America/Los_Angeles:20251207T190000
DTSTAMP:20251029T190944Z
URL:https://news24-680.com/events/its-a-wonderful-life-2025-lafayette-cham
 ber-of-commerce/
SUMMARY:It’s a Wonderful Life 2025 - Lafayette Chamber of Commerce
DESCRIPTION:It’s a Wonderful Life 2025 - Lafayette Chamber of Commerce\n\
 nSunday\, December 7\, 4pm-6pm in Lafayette Plaza\, 3530 Plaza Way\, Lafay
 ette\n\nJoin us for FREE\, fun\, family-friendly celebration including San
 ta sightings\, free train rides on the Lafayette Express\, official holida
 y tree lighting ceremony\, one-of-a-kind photo ops\, live musical entertai
 nment\, kid’s activities\, holiday treats and more! Arrive early and pla
 n to stay! We will be hosting this year’s event on Sunday\, December 7\
 , 4pm-6pm in Lafayette Plaza.  \n\nThe “It’s a Wonderful Life in Laf
 ayette” Holiday Celebration event is presented by the Lafayette Chamber
 \, and sponsored by local Lafayette Realtor The Dana Green Team\, Branag
 h Development\, and the City of Lafayette. Together they are also hosting 
 the environmentally-friendly downtown Lafayette twinkle lights for the Hol
 iday Season.\n\nFood for purchase by Abe’s Cafe and Butter &amp\; Bat
 ter.\n\nActivities during the event:\n\n 	Santa Photo Op: get your Santa p
 ass starting at 4:00pm near Old Betsy\n 	Lafayette Express Train: get you
 r Train Tickets near the Park Theater\n 	New You Dance Center: 360 Photo b
 ooth Photo Op\n 	Design your own gratitude card at the craft table\, and e
 njoy the gratitude cards that were decorated by our local 3rd grade studen
 ts from the Lafayette School District\, St. Perpetua School and Contra
  Costa Jewish Day School.\n 	Lamorinda Sunrise Rotary and the AAUW-OML Am
 bassadors for STEM\, with the help of Sideboard Lafayette\, will offer F
 REE hot chocolate\n 	Tree lighting at 5:30pm – tree provided by East 
 Bay Nursery\n\nwww.lafayettechamber.org/holiday
ATTACH;FMTTYPE=image/jpeg:https://news24-680.com/wp-content/uploads/2016/1
 2/Santa.jpg
CATEGORIES:Holiday
LOCATION:Lafayette\, 3530 Plaza Way\, Lafayette\, CA\, 94549\, United State
 s
GEO:37.891843;-122.11827
X-APPLE-STRUCTURED-LOCATION;VALUE=URI;X-ADDRESS=3530 Plaza Way\, Lafayette\
 , CA\, 94549\, United States;X-APPLE-RADIUS=100;X-TITLE=Lafayette:geo:37.8
 91843,-122.11827
END:VEVENT
BEGIN:VTIMEZONE
TZID:America/Los_Angeles
X-LIC-LOCATION:America/Los_Angeles
BEGIN:STANDARD
DTSTART:20251102T010000
TZOFFSETFROM:-0700
TZOFFSETTO:-0800
TZNAME:PST
END:STANDARD
END:VTIMEZONE
END:VCALENDAR