BEGIN:VCALENDAR
VERSION:2.0
PRODID:-//wp-events-plugin.com//7.2.3.1//EN
TZID:America/Los_Angeles
X-WR-TIMEZONE:America/Los_Angeles
BEGIN:VEVENT
UID:5571@news24-680.com
DTSTART;TZID=America/Los_Angeles:20251003T170000
DTEND;TZID=America/Los_Angeles:20251004T210000
DTSTAMP:20251002T014615Z
URL:https://news24-680.com/events/friends-of-the-oakley-library-book-sale-
 oct-3-4-2/
SUMMARY:Friends Of The Oakley Library Book Sale - Oct. 3-4
DESCRIPTION:Book Sale \nFriday\, October 3rd from 5 PM – 9 PM \nSaturda
 y\, October 4th from 9 AM – 1 PM\n\n? At the Oakley City Hall Council Ch
 ambers\, 3231 Main St.\, Oakley\n\n\n\n\n\nWe’ll have books for all ages
 \, priced from 50¢ to $1\, or slightly more for select items. We prefer c
 ash\, but credit cards will be accepted.
CATEGORIES:Fundraiser
LOCATION:Oakley City Hall Council Chambers\, 3231 Main St.\, Oakley\, CA\, 
 94561\, United States
X-APPLE-STRUCTURED-LOCATION;VALUE=URI;X-ADDRESS=3231 Main St.\, Oakley\, CA
 \, 94561\, United States;X-APPLE-RADIUS=100;X-TITLE=Oakley City Hall Counc
 il Chambers:geo:0,0
END:VEVENT
BEGIN:VTIMEZONE
TZID:America/Los_Angeles
X-LIC-LOCATION:America/Los_Angeles
BEGIN:DAYLIGHT
DTSTART:20250309T030000
TZOFFSETFROM:-0800
TZOFFSETTO:-0700
TZNAME:PDT
END:DAYLIGHT
END:VTIMEZONE
END:VCALENDAR