BEGIN:VCALENDAR
VERSION:2.0
PRODID:-//wp-events-plugin.com//7.2.3.1//EN
TZID:America/Los_Angeles
X-WR-TIMEZONE:America/Los_Angeles
BEGIN:VEVENT
UID:5407@news24-680.com
DTSTART;TZID=America/Los_Angeles:20241214T140000
DTEND;TZID=America/Los_Angeles:20241214T163000
DTSTAMP:20241027T164856Z
URL:https://news24-680.com/events/diablo-symphony-holiday-concert-with-fra
 tello-marionettes-and-san-ramon-valley-chorale/
SUMMARY:Diablo Symphony Holiday Concert with Fratello Marionettes and San R
 amon Valley Chorale
DESCRIPTION:The Diablo Symphony Orchestra is joined by the Fratello Marione
 ttes and the San Ramon Valley Chorale in a joy-filled holiday concert on S
 aturday\, December 14\, 2:00 p.m. at the Walnut Creek Presbyterian Church.
  Archangelo Corelli’s Concerto Grosso in G Minor (“Christmas Concerto
 ”)—according to the composer\, “written for Christmas night”—con
 cludes with a  musical image of shepherds rejoicing\, capturing the joy o
 f the season also reflected in Pergolesi’s uplifting setting of the Mag
 nificat for choir and chamber orchestra (a work now often attributed to Pe
 rgolesi’s teacher Francesco Durante). Joining the orchestra\, the Fratel
 lo Marionettes bring scenes from The Nutcracker to life\, in interpreta
 tions by both Tchaikovsky and Duke Ellington! And\, completing the celebr
 ation\, the orchestra and choir present a potpourri of holiday favorites t
 hat will delight listeners of all ages.\n\nFor more information or to purc
 hase tickets\, visit the DSO’s website or call the Lesher Center for the
  Arts box office (925-943-7469\; 1601 Civic Drive\, Walnut Creek—open We
 dnesday–Sunday\, noon to 6:00 p.m.). Tickets are $45 for adults and $15 
 for youth 13–17. Children 12 and under are free but need a ticket to hav
 e a seat\, and a discounted ticket price of $35 is available for groups of
  10 or more seniors ages 62 and up. (Ticket prices include all processing 
 fees.) Tickets will also be available at the door.
CATEGORIES:Holiday,Music
LOCATION:Walnut Creek Presbyterian Church\, 1801 Lacassie Avenue\, Walnut C
 reek\, California\, 94596\, United States
GEO:37.9025425;-122.06839890000003
X-APPLE-STRUCTURED-LOCATION;VALUE=URI;X-ADDRESS=1801 Lacassie Avenue\, Waln
 ut Creek\, California\, 94596\, United States;X-APPLE-RADIUS=100;X-TITLE=W
 alnut Creek Presbyterian Church:geo:37.9025425,-122.06839890000003
END:VEVENT
BEGIN:VTIMEZONE
TZID:America/Los_Angeles
X-LIC-LOCATION:America/Los_Angeles
BEGIN:STANDARD
DTSTART:20241103T010000
TZOFFSETFROM:-0700
TZOFFSETTO:-0800
TZNAME:PST
END:STANDARD
END:VTIMEZONE
END:VCALENDAR