BEGIN:VCALENDAR
VERSION:2.0
PRODID:-//wp-events-plugin.com//7.2.3.1//EN
TZID:America/Los_Angeles
X-WR-TIMEZONE:America/Los_Angeles
BEGIN:VEVENT
UID:5714@news24-680.com
DTSTART;TZID=America/Los_Angeles:20260627T130000
DTEND;TZID=America/Los_Angeles:20260627T160000
DTSTAMP:20260327T182747Z
URL:https://news24-680.com/events/alameda-meyers-house-and-garden-tours-ju
 ne-27/
SUMMARY:Alameda: Meyers House And Garden Tours - June 27
DESCRIPTION:\nSaturday\, June 27\, 2026 \, 1:00pm-4:00pm\n\nPrice\n$5.00 
 — Additional donations encouraged\n\nThe Meyers House is open each month
  on the fourth Saturday from 1-4PM. Your $5 admission includes a docent to
 ur of the Meyers House Museum\, a visit to a large display of Alameda hous
 e styles and details\, and a glimpse into Henry Meyer’s architectural st
 udio.\n
ATTACH;FMTTYPE=image/jpeg:https://news24-680.com/wp-content/uploads/2026/0
 3/Meyers.jpg
CATEGORIES:Museums,Tour
LOCATION:Meyers House\, 2021 Alameda Avenue\, Alameda\, CA\, 94501\, United
  States
GEO:37.767462;-122.252314
X-APPLE-STRUCTURED-LOCATION;VALUE=URI;X-ADDRESS=2021 Alameda Avenue\, Alame
 da\, CA\, 94501\, United States;X-APPLE-RADIUS=100;X-TITLE=Meyers House:ge
 o:37.767462,-122.252314
END:VEVENT
BEGIN:VTIMEZONE
TZID:America/Los_Angeles
X-LIC-LOCATION:America/Los_Angeles
BEGIN:DAYLIGHT
DTSTART:20260308T030000
TZOFFSETFROM:-0800
TZOFFSETTO:-0700
TZNAME:PDT
END:DAYLIGHT
END:VTIMEZONE
END:VCALENDAR