BEGIN:VCALENDAR
VERSION:2.0
PRODID:-//wp-events-plugin.com//7.2.3.1//EN
TZID:America/Los_Angeles
X-WR-TIMEZONE:America/Los_Angeles
BEGIN:VEVENT
UID:5572@news24-680.com
DTSTART;TZID=America/Los_Angeles:20251024T103000
DTEND;TZID=America/Los_Angeles:20251024T123000
DTSTAMP:20251022T025058Z
URL:https://news24-680.com/events/5k-walk-tober-at-danvilles-osage-station
 -park-oct-24/
SUMMARY:5K Walk-tober At Danville's Osage Station Park - Oct. 24
DESCRIPTION:Walk-tober Brings 5k Fun to Osage Station Park\nThe Danville Se
 nior Center is celebrating wellness and community this fall with Walk-tobe
 r at Osage Station Park. On October 24 from 10:30 a.m. to 12:30 p.m.\, adu
 lts ages 55 and older are invited to take part in a fun and social 5K walk
 \, enjoy a BBQ lunch\, and receive a commemorative Walk-tober shirt and go
 odie bag. Participants can walk any distance at their own pace while conne
 cting with friends old and new.
ATTACH;FMTTYPE=image/jpeg:https://news24-680.com/wp-content/uploads/2025/1
 0/Walkers-copy.jpg
CATEGORIES:Celebration,Free
END:VEVENT
BEGIN:VTIMEZONE
TZID:America/Los_Angeles
X-LIC-LOCATION:America/Los_Angeles
BEGIN:DAYLIGHT
DTSTART:20250309T030000
TZOFFSETFROM:-0800
TZOFFSETTO:-0700
TZNAME:PDT
END:DAYLIGHT
END:VTIMEZONE
END:VCALENDAR